BEGIN:VCALENDAR
PRODID:http://wibix.de/infusions/pro_download_panel/download.php?did=27
VERSION:2.0
METHOD:PUBLISH
BEGIN:VEVENT
DTSTART:20181230T230000Z
DTEND:20181231T225900Z
UID:139@http://www.circolosassarese.it/
DTSTAMP:20181101T112019Z
DESCRIPTION:LUNEDĚ 31 DICEMBRE ore 21,00 Cena di Capodanno \nore 24,00 Ballo di Capodanno\n(č gradito l’abito da sera)
SUMMARY:Cena di Capodanno, ore 24,00 Ballo di Capodanno
CLASS:PUBLIC
END:VEVENT
END:VCALENDAR
