BEGIN:VCALENDAR
PRODID:http://wibix.de/infusions/pro_download_panel/download.php?did=27
VERSION:2.0
METHOD:PUBLISH
BEGIN:VEVENT
DTSTART:20200124T230000Z
DTEND:20200125T225900Z
UID:146@http://www.circolosassarese.it/
DTSTAMP:20200119T162801Z
DESCRIPTION:ore 21:00 Cena delle Signore\n( č gradito l’abito da sera )
SUMMARY:CENA DELLE SIGNORE
CLASS:PUBLIC
END:VEVENT
END:VCALENDAR
