BEGIN:VCALENDAR
PRODID:http://wibix.de/infusions/pro_download_panel/download.php?did=27
VERSION:2.0
METHOD:PUBLISH
BEGIN:VEVENT
DTSTART:20200417T220000Z
DTEND:20200418T215900Z
UID:151@http://www.circolosassarese.it/
DTSTAMP:20200119T163734Z
DESCRIPTION:ore 20.30 “ Saturday Night Fever”\nBuffet
SUMMARY:Saturday Night Fever
CLASS:PUBLIC
END:VEVENT
END:VCALENDAR
